-0.00000000000000
-0.09000000000000
-0.09000000000000
0.00000000000000
684776.49928346870000
261712.01958737228000
