-0.00000000000000
-0.09000000000000
-0.09000000000000
0.00000000000000
683702.49928346870000
250966.01958737228000
