-0.00000000000000
-0.09000000000000
-0.09000000000000
0.00000000000000
683705.49928346870000
253688.01958737228000
