-0.00000000000000
-0.09000000000000
-0.09000000000000
0.00000000000000
683715.49928346870000
258967.01958737228000
