-0.00000000000000
-0.09000000000000
-0.09000000000000
0.00000000000000
683725.49928346870000
259602.01958737228000
