-0.00000000000000
-0.09000000000000
-0.09000000000000
0.00000000000000
683718.49928346870000
273717.01958737226000
