-0.00000000000000
-0.09000000000000
-0.09000000000000
0.00000000000000
683708.49928346870000
275646.01958737226000
