-0.00000000000000
-0.09000000000000
-0.09000000000000
0.00000000000000
683715.49928346870000
276826.01958737226000
