0.00000000000000
0.09000000000000
0.09000000000000
-0.00000000000000
680995.50071653130000
248482.98041262772000
