0.00000000000000
0.09000000000000
0.09000000000000
-0.00000000000000
680990.50071653130000
256005.98041262772000
