0.00000000000000
0.09000000000000
0.09000000000000
-0.00000000000000
680995.50071653130000
256604.98041262772000
