0.00000000000000
0.09000000000000
0.09000000000000
-0.00000000000000
680997.50071653130000
263850.00937843852000
