0.00000000000000
0.09000000000000
0.09000000000000
-0.00000000000000
680985.50071653130000
265785.00937843852000
