0.00000000000000
0.09000000000000
0.09000000000000
-0.00000000000000
680987.50071653118000
266450.05317919835000
