0.00000000000000
0.09000000000000
0.09000000000000
-0.00000000000000
680982.50071653118000
267138.05317919835000
