-0.00000000000000
-0.09000000000000
-0.09000000000000
0.00000000000000
681507.49928346870000
252594.01958737228000
