-0.00000000000000
-0.09000000000000
-0.09000000000000
0.00000000000000
681511.49928346870000
260627.01958737228000
