-0.00000000000000
-0.09000000000000
-0.09000000000000
0.00000000000000
681499.49928346870000
271724.01958737226000
