0.00000000000000
0.09000000000000
0.09000000000000
-0.00000000000000
678796.50071653130000
254073.98041262772000
