0.00000000000000
0.09000000000000
0.09000000000000
-0.00000000000000
678805.50071653130000
258144.98041262772000
