0.00000000000000
0.09000000000000
0.09000000000000
-0.00000000000000
678800.50071653130000
263041.98041262774000
