0.00000000000000
0.09000000000000
0.09000000000000
-0.00000000000000
678803.50071653130000
265754.98041262774000
