0.00000000000000
0.09000000000000
0.09000000000000
-0.00000000000000
678808.50071653130000
269631.98041262774000
