-0.00000000000000
-0.09000000000000
-0.09000000000000
0.00000000000000
679333.49928346870000
253013.01958737228000
