-0.00000000000000
-0.09000000000000
-0.09000000000000
0.00000000000000
679341.49928346870000
253566.01958737228000
