-0.00000000000000
-0.09000000000000
-0.09000000000000
0.00000000000000
679357.49928346870000
258765.01958737228000
