-0.00000000000000
-0.09000000000000
-0.09000000000000
0.00000000000000
679362.49928346870000
263701.01958737226000
