-0.00000000000000
-0.09000000000000
-0.09000000000000
0.00000000000000
679377.49928346870000
267607.01958737226000
