-0.00000000000000
-0.09000000000000
-0.09000000000000
0.00000000000000
679381.49928346870000
273421.01958737226000
