-0.00000000000000
-0.09000000000000
-0.09000000000000
0.00000000000000
679372.49928346870000
274557.01958737226000
