0.00000000000000
0.09000000000000
0.09000000000000
-0.00000000000000
676595.10904768133000
257064.26126146191000
