0.00000000000000
0.09000000000000
0.09000000000000
-0.00000000000000
676601.10904768133000
258317.26126146191000
