0.00000000000000
0.09000000000000
0.09000000000000
-0.00000000000000
676593.10904768133000
258969.26126146191000
