0.00000000000000
0.09000000000000
0.09000000000000
-0.00000000000000
676579.10904768133000
260851.26126146191000
