0.00000000000000
0.09000000000000
0.09000000000000
-0.00000000000000
676585.10904768133000
262926.26126146194000
