0.00000000000000
0.09000000000000
0.09000000000000
-0.00000000000000
676579.10904768133000
267498.26126146194000
