-0.00000000000000
-0.09000000000000
-0.09000000000000
0.00000000000000
677169.58678674349000
257396.59831412110000
