-0.00000000000000
-0.09000000000000
-0.09000000000000
0.00000000000000
677178.58678674349000
260535.59831412110000
