-0.00000000000000
-0.09000000000000
-0.09000000000000
0.00000000000000
677172.58678674349000
268317.59831412107000
