-0.00000000000000
-0.09000000000000
-0.09000000000000
0.00000000000000
677178.58678674349000
274339.59831412107000
