0.00000000000000
0.09000000000000
0.09000000000000
-0.00000000000000
674411.71737883158000
263268.54211029602000
