0.00000000000000
0.09000000000000
0.09000000000000
-0.00000000000000
674407.71737883158000
264602.54211029602000
