-0.00000000000000
-0.09000000000000
-0.09000000000000
0.00000000000000
675012.28262116853000
255239.45788970400000
