-0.00000000000000
-0.09000000000000
-0.09000000000000
0.00000000000000
675028.28262116853000
259403.45788970400000
