-0.00000000000000
-0.09000000000000
-0.09000000000000
0.00000000000000
675022.28262116853000
260915.45788970400000
