-0.00000000000000
-0.09000000000000
-0.09000000000000
0.00000000000000
675015.28262116853000
268118.45788970398000
