0.00000000000000
0.09000000000000
0.09000000000000
-0.00000000000000
672212.71737883147000
259462.54211029600000
