0.00000000000000
0.09000000000000
0.09000000000000
-0.00000000000000
672199.71737883158000
260937.54211029600000
