0.00000000000000
0.09000000000000
0.09000000000000
-0.00000000000000
672195.71737883158000
261612.54211029600000
