0.00000000000000
0.09000000000000
0.09000000000000
-0.00000000000000
672195.71737883158000
262214.54211029602000
